BEGIN:VCALENDAR
VERSION:2.0
PRODID:-//The Red Brick Building - ECPv6.14.0//NONSGML v1.0//EN
CALSCALE:GREGORIAN
METHOD:PUBLISH
X-WR-CALNAME:The Red Brick Building
X-ORIGINAL-URL:https://www.redbrickbuilding.co.uk
X-WR-CALDESC:Events for The Red Brick Building
REFRESH-INTERVAL;VALUE=DURATION:PT1H
X-Robots-Tag:noindex
X-PUBLISHED-TTL:PT1H
BEGIN:VTIMEZONE
TZID:Europe/London
BEGIN:DAYLIGHT
TZOFFSETFROM:+0000
TZOFFSETTO:+0100
TZNAME:BST
DTSTART:20250330T010000
END:DAYLIGHT
BEGIN:STANDARD
TZOFFSETFROM:+0100
TZOFFSETTO:+0000
TZNAME:GMT
DTSTART:20251026T010000
END:STANDARD
END:VTIMEZONE
BEGIN:VEVENT
DTSTART;TZID=Europe/London:20250710T190000
DTEND;TZID=Europe/London:20250710T214500
DTSTAMP:20260424T183129
CREATED:20250613T145418Z
LAST-MODIFIED:20250613T152832Z
UID:88017-1752174000-1752183900@www.redbrickbuilding.co.uk
SUMMARY:Three Acres And A Cow
DESCRIPTION:Three Acres And A Cow\n  \nA history of land rights and protest in folk song and story \n  \nThree Acres And A Cow connects the Norman Conquest and Peasants’ Revolt with current issues like the housing crisis\, reparations\, climate breakdown and food sovereignty via the Enclosures\, English Civil War and Industrial Revolution\, drawing a compelling narrative through the radical people’s history of England in folk song\, stories and poems. \nPart TED talk\, part history lecture\, part folk club sing-a-long\, part storytelling session… Come and share in these tales as they have been shared for generations. \nFor more information\, visit: www.threeacresandacow.co.uk \n  \n“I think about this show all the time. It has totally changed the way I think about colonialism\, direct action and English nationalism. Thinking about it today\, four years after seeing the show\, it’s clear it was a life changing event for me.” – Monique \n“The history lesson I’ve always wanted. Thank you for a very entertaining/life changing evening. I’ll be looking at the land and listening to folk songs in a very different way” – Emily \n“Everyone should see this show” – George Monbiot \n  \nThursday 10th July \nDoors: 6.30pm \n7pm – 9.45pm (with one interval) \n  \nTickets \n£15 – £25 \nAdvance tickets available to purchase here: www.tickettailor.com/events/modifythevan/1739534 \n  \nMoney raised from ticket sales will help support the work of our vibrant community centre; a space that welcomes all and supports community\, arts\, enterprise\, well-being and culture. \n  \n  \nAge Limit: \nThe show is not designed for kids although there have been both primary and secondary aged children who enjoyed the show a lot… *but* please do not bring them along against their will! \nThe show is light hearted in many places and is broken up with sing-a-longs\, but we also discuss the Irish potato famine and other British colonial genocides plus the trading of enslaved Africans – so some strong words are used. \n 
URL:https://www.redbrickbuilding.co.uk/event/three-acres-and-a-cow-2025/
LOCATION:The Red Brick Building\, Morland Road\, Glastonbury\, Somerset\, BA6 9FT\, United Kingdom
CATEGORIES:All,Community,Entertainment,Fundraiser,Gig,Lecture,Live,Music,Theatre
ATTACH;FMTTYPE=image/jpeg:https://s3.eu-west-2.amazonaws.com/static.redbrickbuilding.co.uk/wp-content/uploads/2025/06/13155338/Three-Acres-And-A-Cow-2025-Featured-Image.jpg
ORGANIZER;CN="The Red Brick Building":MAILTO:info@redbrickbuilding.co.uk
END:VEVENT
BEGIN:VEVENT
DTSTART;TZID=Europe/London:20250713T130000
DTEND;TZID=Europe/London:20250713T150000
DTSTAMP:20260424T183129
CREATED:20250613T160519Z
LAST-MODIFIED:20250613T160519Z
UID:88026-1752411600-1752418800@www.redbrickbuilding.co.uk
SUMMARY:Lunchtime Jazz with the Wells Jazz Collective - July
DESCRIPTION:Lunchtime Jazz\nWith the Wells Jazz Collective\n  \nThe perfect blend of good food and cool jazz \n  \nThis combination of smooth jazz and delicious food makes for the perfect chilled out Sunday. Food is prepared to order by the restaurant\, while live jazz is served up by the Wells Jazz Collective. \nDiners are recommended to book with the restaurant in advance. Please contact 01458 440558 or dining@redbrickbuilding.co.uk \n  \nSunday 13th July \n1pm – 3pm \n  \nFree entry \nDonations welcome \n 
URL:https://www.redbrickbuilding.co.uk/event/lunchtime-jazz-jul-2025/
LOCATION:The Red Brick Building\, Morland Road\, Glastonbury\, Somerset\, BA6 9FT\, United Kingdom
CATEGORIES:All,Entertainment,Live,Music
ATTACH;FMTTYPE=image/jpeg:https://s3.eu-west-2.amazonaws.com/static.redbrickbuilding.co.uk/wp-content/uploads/2022/04/01111256/Wells-Jazz-Collective-Featured-Image-3.jpg
ORGANIZER;CN="The Red Brick Building":MAILTO:info@redbrickbuilding.co.uk
END:VEVENT
BEGIN:VEVENT
DTSTART;TZID=Europe/London:20250713T160000
DTEND;TZID=Europe/London:20250713T170000
DTSTAMP:20260424T183129
CREATED:20250613T162034Z
LAST-MODIFIED:20250613T162034Z
UID:88029-1752422400-1752426000@www.redbrickbuilding.co.uk
SUMMARY:Sufi Soundstreams - July
DESCRIPTION:Sufi Soundstreams\nSufi meditation\, chanting and music gatherings\n  \nAt the Peace Flame\, in the Event Space \n  \nThe sessions will be lead by Mikail Rose who\, as a follower of the Naqshbandi Sufi Order\, has been leading Zikrs for over thirty years. \n  \nExperience the healing powers of the ‘Divine Names’\, through the harmonising practice of ‘Remembrance’. \nPolish the ‘Mirror of the Heart’. Open the Sacred Connection to the ‘Golden Chain of Transmission’. \n  \nPlease wear loose-fitting\, comfortable clothing\, bring a bottle of water\, and a yearning heart… \n  \nSunday 13th July \n4pm – 5pm \n  \nDonations gratefully received \n  \nFor more info \nPlease call: 07403 444 152
URL:https://www.redbrickbuilding.co.uk/event/sufi-soundstreams-jul-2025/
LOCATION:The Red Brick Building\, Morland Road\, Glastonbury\, Somerset\, BA6 9FT\, United Kingdom
CATEGORIES:All,Community,Live,Music
ATTACH;FMTTYPE=image/jpeg:https://s3.eu-west-2.amazonaws.com/static.redbrickbuilding.co.uk/wp-content/uploads/2017/01/30155742/299A6305.jpg
ORGANIZER;CN="The Red Brick Building":MAILTO:info@redbrickbuilding.co.uk
END:VEVENT
BEGIN:VEVENT
DTSTART;TZID=Europe/London:20250725T100000
DTEND;TZID=Europe/London:20250725T123000
DTSTAMP:20260424T183129
CREATED:20240620T163552Z
LAST-MODIFIED:20250613T162352Z
UID:87932-1753437600-1753446600@www.redbrickbuilding.co.uk
SUMMARY:Heritage Café - July
DESCRIPTION:Heritage Café\n  \nCome join us for tea\, conversation and a smile! \nThe ‘Heritage Café’ is a place for friendship\, conversation and reminiscence. It is open to everyone and has been set up as part of our local heritage project ‘Morlands and Baily’s: Industry and Community in Glastonbury and Street‘. It is made possible by a grant from the National Lottery Heritage Fund. \nWe hope that anyone with a connection to\, memory of\, or interest in Morlands or Baily’s will come along to meet others\, share memories and enjoy tea\, coffee and cake. Each session we will have a different talking point\, and there will be photos\, magazines and artefacts to enjoy. \nThe Heritage Café is completely free and is held in the Event Space at the Red Brick Building on the last Friday morning of each month between 10am and 12.30pm. If you would like more information\, please email heritage@redbrickbuilding.co.uk \nAll are welcome. Come along and bring a friend! \n  \nLast Friday of the Month (unless otherwise stated) \n10am – 12.30pm \n 
URL:https://www.redbrickbuilding.co.uk/event/heritage-cafe-2025-07-25/
LOCATION:The Red Brick Building\, Morland Road\, Glastonbury\, Somerset\, BA6 9FT\, United Kingdom
CATEGORIES:All,Community
ATTACH;FMTTYPE=image/jpeg:https://s3.eu-west-2.amazonaws.com/static.redbrickbuilding.co.uk/wp-content/uploads/2024/06/20173527/Heritage-Cafe-Featured-Image.jpg
ORGANIZER;CN="The Red Brick Building":MAILTO:info@redbrickbuilding.co.uk
END:VEVENT
BEGIN:VEVENT
DTSTART;TZID=Europe/London:20250726T140000
DTEND;TZID=Europe/London:20250726T170000
DTSTAMP:20260424T183129
CREATED:20250429T154637Z
LAST-MODIFIED:20250506T102625Z
UID:87828-1753538400-1753549200@www.redbrickbuilding.co.uk
SUMMARY:Somatic Synergy: Nervous System Regulation & Pelvic Floor Barre for Resilience & Rejuvenation
DESCRIPTION:Somatic Synergy\nWith Somatic Wellness Coach Sophia Blanton \n  \nTwo Workshops: ‘Nervous System Regulation’ and ‘Pelvic Floor Barre’ \n  \nA two-part embodied breakthrough weaving Nervous System Regulation & Pelvic Floor Barre. We’ll dive into science-backed techniques to regulate the nervous system\, followed by a unique somatic practice to awaken & strengthen the pelvic region. \n  \nFIRST SESSION: NERVOUS SYSTEM REGULATION \nLearn to: \nIdentify key nervous system stress states in the body \nChoose from a series of nervous-system mini-routines to reset & recover from stress states like fight\, flight\, freeze \nCo-regulate with simple rhythmic group activities \n  \nSECOND SESSION: PELVIC FLOOR BARRE \nLearn to: \nGently open & release joints of the lower back & pelvis \nRhythmically tone muscle groups like glutes\, core & Kegels \nRelease stored emotional energy from the pelvis and enteric nervous system (the Gut-Brain) \n  \nSomatic Synergy is a dynamic 3-hour workshop that invites you into deep connection with your body’s innate wisdom. Through a unique combination of somatic nervous system regulation and pelvic floor barre\, you’ll learn about how the body holds stress\, and how it can release\, reset\, and revive through embodied practice. Please bring a yoga mat and/or towel for the workshop.  We will engage activities standing\, sitting\, and lying on the floor – all to a carefully curated\, inspiring soundscape. \nWe’ll begin with trauma-informed techniques to come into grounded\, centered presence and metabolize the energies of fight\, flight\, and freeze. You’ll learn practical tools to identify your nervous system states\, cultivate embodied safety\, and co-regulate with others — all through movement\, breath\, sensation\, and rhythm.  You’ll take home three mini-routines that you can use any time for quick and simple shifting.  All attendees are invited to the private Facebook group “Neuroshift Regulation Resources”\, where you can follow short video routines with Sophia to help you shift any time. \nIn the second half\, we’ll move into a somatic floor-barre practice focused on the pelvic bowl\, belly and core\, where we tend to store emotional energies like fear and shame.  We’ll explore innovative ways to gently and incrementally open the joints of the pelvic bowl in preparation for deeper work. By merging breath with movement\, you’ll awaken tone\, vitality\, and emotional release in the deep tissues of the pelvic bowl\, with special focus on the Kegel muscle group and glutes. Expect to leave feeling revitalized and more in tune with your body’s felt sense of resilience and flow. \nSophia Blanton is an international teacher of dance\, performance and embodied modalities bridging intentional movement with emotional and mental health. She has been studying the nervous system since 2011\, when she embarked on a research project applying movement to recovery from trauma and stress states.  With certifications in trauma-informed healing practice and somatic nervous system regulation\, she has helps people tap into their bodies’ innate wisdom for integrated well-being\, body\, mind and soul. \n  \nSaturday 26th July \n2pm – 5pm \n  \nPrice \n£25 for one workshop \n£45 for both workshops \n  \nFor more info and to book \nEmail shiftwithsophia@gmail.com \n 
URL:https://www.redbrickbuilding.co.uk/event/somatic-synergy-2025/
LOCATION:The Red Brick Building\, Morland Road\, Glastonbury\, Somerset\, BA6 9FT\, United Kingdom
CATEGORIES:All,Wellbeing,Workshop
ATTACH;FMTTYPE=image/jpeg:https://s3.eu-west-2.amazonaws.com/static.redbrickbuilding.co.uk/wp-content/uploads/2025/04/06112507/Somatic-Synergy-Workshops-2025-Featured-Image-Final.jpg
ORGANIZER;CN="The Red Brick Building":MAILTO:info@redbrickbuilding.co.uk
END:VEVENT
END:VCALENDAR