BEGIN:VCALENDAR
VERSION:2.0
PRODID:-//The Red Brick Building - ECPv6.14.0//NONSGML v1.0//EN
CALSCALE:GREGORIAN
METHOD:PUBLISH
X-WR-CALNAME:The Red Brick Building
X-ORIGINAL-URL:https://www.redbrickbuilding.co.uk
X-WR-CALDESC:Events for The Red Brick Building
REFRESH-INTERVAL;VALUE=DURATION:PT1H
X-Robots-Tag:noindex
X-PUBLISHED-TTL:PT1H
BEGIN:VTIMEZONE
TZID:Europe/London
BEGIN:DAYLIGHT
TZOFFSETFROM:+0000
TZOFFSETTO:+0100
TZNAME:BST
DTSTART:20250330T010000
END:DAYLIGHT
BEGIN:STANDARD
TZOFFSETFROM:+0100
TZOFFSETTO:+0000
TZNAME:GMT
DTSTART:20251026T010000
END:STANDARD
END:VTIMEZONE
BEGIN:VEVENT
DTSTART;TZID=Europe/London:20250503T090000
DTEND;TZID=Europe/London:20250503T180000
DTSTAMP:20260424T210757
CREATED:20250318T122845Z
LAST-MODIFIED:20250318T122845Z
UID:87221-1746262800-1746295200@www.redbrickbuilding.co.uk
SUMMARY:Bloomin’ Brilliant BioBlitz
DESCRIPTION:Bloomin’ Brilliant BioBlitz\nWith Somerset Wildlife Trust \n  \nA day of nature discovery in Beckery \n  \nJoin Somerset Wildlife Trust for an action packed day! \n\nWildlife surveys and guided walks at Brides Fields\, Chapel Field and the orchard\nCraft and wellbeing activities at Red Brick Building\nAn environmental film screening\nInformation stalls from local organisations helping people prepare for\, and capitalise on\, living in wetter landscapes.\n\n  \nThis is a family friendly event\, but children under the age of 18 must be accompanied by an adult at all times. \n  \nSaturday 3rd May \n9am – 6pm \n  \nFor more info and to book \nTo book for the surveys\, guided walks\, activities and film\, visit: www.somersetwildlife.org/events \nThere is no need to book to visit the information stalls. \n 
URL:https://www.redbrickbuilding.co.uk/event/bloomin-brilliant-bioblitz/
LOCATION:The Red Brick Building\, Morland Road\, Glastonbury\, Somerset\, BA6 9FT\, United Kingdom
CATEGORIES:All,Community,Exhibition,Film,Gardening,Lecture,Live,Workshop
ATTACH;FMTTYPE=image/jpeg:https://s3.eu-west-2.amazonaws.com/static.redbrickbuilding.co.uk/wp-content/uploads/2025/03/18122746/Bloomin-Brilliant-Bioblitz-2025-Featured-Image.jpg
END:VEVENT
BEGIN:VEVENT
DTSTART;TZID=Europe/London:20250508T190000
DTEND;TZID=Europe/London:20250508T223000
DTSTAMP:20260424T210757
CREATED:20250417T113605Z
LAST-MODIFIED:20250417T113605Z
UID:87819-1746730800-1746743400@www.redbrickbuilding.co.uk
SUMMARY:Strodelive: Track Release Event Two
DESCRIPTION:Strodelive\nTrack Release Event Two\n  \nOriginal acts from Strode College\, performing live \n  \nThe Heavier side of Strodelive\, the second of two track release events. \nOriginal tracks and acts releasing material on Strodelive 25\, performing live at the Red Brick Building. \n  \nThursday 8th May \nDoors: 7.30pm \nFrom 7.30pm – 10.30pm \n  \nTickets: \n£5 – £7 (plus booking fee). Available here: www.ticketsource.co.uk/strodelive/t-moljdde \n 
URL:https://www.redbrickbuilding.co.uk/event/strodelive-may-2025/
LOCATION:The Red Brick Building\, Morland Road\, Glastonbury\, Somerset\, BA6 9FT\, United Kingdom
CATEGORIES:All,Entertainment,Gig,Live,Music,Youth
ATTACH;FMTTYPE=image/jpeg:https://s3.eu-west-2.amazonaws.com/static.redbrickbuilding.co.uk/wp-content/uploads/2024/05/03131703/Strode-Live-Featured-Image.jpg
END:VEVENT
BEGIN:VEVENT
DTSTART;TZID=Europe/London:20250509T193000
DTEND;TZID=Europe/London:20250509T223000
DTSTAMP:20260424T210757
CREATED:20250311T134607Z
LAST-MODIFIED:20250509T133448Z
UID:87589-1746819000-1746829800@www.redbrickbuilding.co.uk
SUMMARY:Friday Night Jazz: 80th Anniversary VE Day Celebrations
DESCRIPTION:The Red Hot Jazz Club presents\n80th Anniversary VE Day Celebrations\n  \nN.B. Online ticket sales have now stopped. Tickets will be available to purchase on the door from 7.30pm tonight. \n  \nClassic 1930’s & 40’s tunes from The Shepton Mallet Big Band \n  \nAfter their amazing performance at last year’s Glastonbury Extravaganza\, The Red Hot Jazz Club are thrilled to host The Shepton Mallet Big Band for our 80th Anniversary VE Day Celebrations. \nCome dressed to celebrate and join in with the big band\, singing and dancing to all those popular tunes that bring back all those memories of those momentous events in the 1930s and 40’s. \nIf you’d like to book a table and eat\, we are offering a special VE Day meal of  Beef or Vegetable Hotpot with Dumpling and Mash which can be ordered below with your tickets. \n  \nThe Shepton Mallet Big Band was established more than 30 years ago\, when what started as a local saxophone jazz quartet specialising in music from the 30s\, 40s and 50s\, grew into a Big Band.  \nThe band today is a vibrant group of over 20 enthusiastic musicians in a standard line-up of saxophones\, trumpets and trombones\, with guitar\, bass\, drums\, keyboard and vocalists.  Our repertoire includes music from the golden big band era of the 1940s\, including Glenn Miller\, Count Basie\, Louis\, Ella and Sinatra and also contemporary funk and soul style music such as pieces by Herbie Hancock\, Stevie Wonder\, and Imelda May. The members are keen to bring live instrumental and vocal music of all kinds to everyone. Performances at recent events include: the Royal Bath & West Show for the last few years\, Shepton Mallet Collett Park Day\, Haynes Motor Museum and the Glastonbury Extravaganza supporting headliners Keane. \nThis year sees the 80th anniversary of VE day in May and the band has put together a set of authentic 1930s and 1940s music to commemorate this important milestone. \n  \n  \nFriday 9th May \nDoors: 7.30pm \nStart: 8pm \n  \nTickets \nEntry: £15 \nBeef Hotpot with Dumpling and Mash*: £9.50 (Advance booking only. Must be booked by Monday 5th May) \nVegetable Hotpot with Dumpling and Mash*: £9.50 (Advance booking only. Must be booked by Monday 5th May) \n*For special dietary requirements\, please contact the restaurant on dining@redbrickbuilding.co.uk or 01458 440558. \nPlease note food options are subject to change. \n  \nFor more information about this event\, please contact theredhotjazzclub@gmail.com \n  \n18’s and over only \nPlease note\, tickets are non-refundable unless the event is cancelled
URL:https://www.redbrickbuilding.co.uk/event/friday-night-jazz-ve-day-2025/
LOCATION:The Red Brick Building\, Morland Road\, Glastonbury\, Somerset\, BA6 9FT\, United Kingdom
CATEGORIES:All,Entertainment,Gig,Live,Music
ATTACH;FMTTYPE=image/jpeg:https://s3.eu-west-2.amazonaws.com/static.redbrickbuilding.co.uk/wp-content/uploads/2025/03/11134222/Friday-Night-Jazz-VE-Day-Celebrations-2025-Featured-Image.jpg
ORGANIZER;CN="The Red Hot Jazz Club":MAILTO:theredhotjazzclub@gmail.com
END:VEVENT
BEGIN:VEVENT
DTSTART;TZID=Europe/London:20250510T100000
DTEND;TZID=Europe/London:20250510T170000
DTSTAMP:20260424T210757
CREATED:20250401T160641Z
LAST-MODIFIED:20250401T160641Z
UID:87707-1746871200-1746896400@www.redbrickbuilding.co.uk
SUMMARY:National Dying Matters Weekend: Workshops & Talks
DESCRIPTION:National Dying Matters Weekend\nWorkshops & Talks (Saturday)\n  \nThe Sacred Death Centre Glastonbury Warmly invites you to a weekend of events to honour National Dying Matters Week 2025. \nA weekend of talks\, workshops and events to explore end of life care\, and grief support. Join us in community to open up conversations about death\, dying and everything in between. \n  \nOn Saturday 10th May: \n10am – 10.30am: Despatcho & Open Ceremony \n10.30am – 12.30pm: Death Awareness\, End of Life Planning & Support – Simon Gardiner \n1.30pm – 2.30pm: Loyre – Reading a short story ‘Dead Gorgeous’ filled with humour and wisdom. Breath & movement exercises that help with challenging times. \n2.30pm – 3.30pm: Melissa Taylor & Lucy Lord – Grief & Sorrow \n3.30pm – 5pm: Celebrant \n  \nOn Sunday 11th May: \n10am – 1pm: Transitions Dance; dancing the waters of the Heart with Melanie \n2pm – 4pm: Sound Medicine Journey with Herbs for the Heart with Annabelle \n  \n  \nTickets \n£5 per person per day \n  \nFor more info and to book: \nVisit: https://sacreddeathcentre.org/events/ \nOr contact: sacreddeathcentre@gmail.com \n 
URL:https://www.redbrickbuilding.co.uk/event/dying-matters-sat-2025/
LOCATION:The Red Brick Building\, Morland Road\, Glastonbury\, Somerset\, BA6 9FT\, United Kingdom
CATEGORIES:All,Community,Lecture,Live,Support,Wellbeing,Workshop
ATTACH;FMTTYPE=image/jpeg:https://s3.eu-west-2.amazonaws.com/static.redbrickbuilding.co.uk/wp-content/uploads/2025/04/01170459/National-Dying-Matters-Weekend-2025-Featured-Image.jpg
ORGANIZER;CN="Sacred Death Centre Glastonbury":MAILTO:sacreddeathcentre@gmail.com
END:VEVENT
BEGIN:VEVENT
DTSTART;TZID=Europe/London:20250511T100000
DTEND;TZID=Europe/London:20250511T160000
DTSTAMP:20260424T210757
CREATED:20250401T161035Z
LAST-MODIFIED:20250401T161035Z
UID:87713-1746957600-1746979200@www.redbrickbuilding.co.uk
SUMMARY:National Dying Matters Weekend: Dance & Sound Journey
DESCRIPTION:National Dying Matters Weekend\nDance & Sound Journey (Sunday)\n  \nThe Sacred Death Centre Glastonbury Warmly invites you to a weekend of events to honour National Dying Matters Week 2025. \nA weekend of talks\, workshops and events to explore end of life care\, and grief support. Join us in community to open up conversations about death\, dying and everything in between. \n  \nOn Saturday 10th May: \n10am – 10.30am: Despatcho & Open Ceremony \n10.30am – 12.30pm: Death Awareness\, End of Life Planning & Support – Simon Gardiner \n1.30pm – 2.30pm: Loyre – Reading a short story ‘Dead Gorgeous’ filled with humour and wisdom. Breath & movement exercises that help with challenging times. \n2.30pm – 3.30pm: Melissa Taylor & Lucy Lord – Grief & Sorrow \n3.30pm – 5pm: Celebrant \n  \nOn Sunday 11th May: \n10am – 1pm: Transitions Dance; dancing the waters of the Heart with Melanie \n2pm – 4pm: Sound Medicine Journey with Herbs for the Heart with Annabelle \n  \n  \nTickets \n£5 per person per day \n  \nFor more info and to book: \nVisit: https://sacreddeathcentre.org/events/ \nOr contact: sacreddeathcentre@gmail.com \n 
URL:https://www.redbrickbuilding.co.uk/event/dying-matters-sun-2025/
LOCATION:The Red Brick Building\, Morland Road\, Glastonbury\, Somerset\, BA6 9FT\, United Kingdom
CATEGORIES:All,Community,Dance,Lecture,Live,Support,Wellbeing,Workshop
ATTACH;FMTTYPE=image/jpeg:https://s3.eu-west-2.amazonaws.com/static.redbrickbuilding.co.uk/wp-content/uploads/2025/04/01170459/National-Dying-Matters-Weekend-2025-Featured-Image.jpg
ORGANIZER;CN="Sacred Death Centre Glastonbury":MAILTO:sacreddeathcentre@gmail.com
END:VEVENT
BEGIN:VEVENT
DTSTART;TZID=Europe/London:20250516T190000
DTEND;TZID=Europe/London:20250516T220000
DTSTAMP:20260424T210757
CREATED:20250425T144326Z
LAST-MODIFIED:20250516T163848Z
UID:87838-1747422000-1747432800@www.redbrickbuilding.co.uk
SUMMARY:An Evening of Palestinian Culture
DESCRIPTION:An Evening of Palestinian Culture\nRaising funds for displaced Gazans\n  \nN.B. Online ticket sales have now stopped. Tickets will be available to purchase on the door from 7pm tonight. \n  \nJoin us and be part of this Fundraiser for the Denizen’s Society\, a grassroots charity supporting the 10’s of 1000’s of displaced Gazans in Cairo. \nA unique opportunity to view Ahmed’s Photographic Exhibition\, a personal story of survival in Gaza. \nImmerse yourself in the rich tapestry of Palestinian music and learn to dance the Dabke. \nPalestinian Tatreez Embroidery and Zaytoun food products will be on sale together with the chance to savour some authentic savoury and sweet appetizers. \nMendip Friends of Palestine welcomes Denizens. \n  \nFriday 16th May \n7pm – 10pm \n  \nTickets \nFull price: £8 \nConcessions: £5 \n  \n18’s and over only \nPlease note\, tickets are non-refundable unless the event is cancelled \n 
URL:https://www.redbrickbuilding.co.uk/event/palestinian-night-may-2025/
LOCATION:The Red Brick Building\, Morland Road\, Glastonbury\, Somerset\, BA6 9FT\, United Kingdom
CATEGORIES:All,Fundraiser,Gig,Live,Music
ATTACH;FMTTYPE=image/jpeg:https://s3.eu-west-2.amazonaws.com/static.redbrickbuilding.co.uk/wp-content/uploads/2025/04/25154137/An-Evening-of-Palestinian-Culture-May-2025-Featured-Image.jpg
END:VEVENT
BEGIN:VEVENT
DTSTART;TZID=Europe/London:20250517T210000
DTEND;TZID=Europe/London:20250518T010000
DTSTAMP:20260424T210757
CREATED:20250501T113049Z
LAST-MODIFIED:20250501T113049Z
UID:87866-1747515600-1747530000@www.redbrickbuilding.co.uk
SUMMARY:Neon Jungle: Beat Wave
DESCRIPTION:Neon Jungle Presents\nBeat Wave\n  \nMulti-genre DJ night \n  \nFeaturing: \nGRANDMA WUBPLATE \nTBAGZ b2b R;LORE b2b MFC \nFORGED b2b WHAMMY \nQ ON \n  \nSaturday 17th May \n9pm – 1am \n  \nTickets \n£10 on the door \n  \nStrictly 18’s and over only
URL:https://www.redbrickbuilding.co.uk/event/neon-jungle-beat-wave-2025/
LOCATION:The Red Brick Building\, Morland Road\, Glastonbury\, Somerset\, BA6 9FT\, United Kingdom
CATEGORIES:All,Entertainment,Gig,Live,Music
ATTACH;FMTTYPE=image/jpeg:https://s3.eu-west-2.amazonaws.com/static.redbrickbuilding.co.uk/wp-content/uploads/2025/05/01122953/Neon-Jungle-Beat-Wave-2025-Featured-Image.jpg
END:VEVENT
BEGIN:VEVENT
DTSTART;TZID=Europe/London:20250523T100000
DTEND;TZID=Europe/London:20250523T123000
DTSTAMP:20260424T210757
CREATED:20240620T163552Z
LAST-MODIFIED:20250515T131448Z
UID:87812-1747994400-1748003400@www.redbrickbuilding.co.uk
SUMMARY:Heritage Café
DESCRIPTION:Heritage Café\n  \nCome join us for tea\, conversation and a smile! \nThe ‘Heritage Café’ is a place for friendship\, conversation and reminiscence. It is open to everyone and has been set up as part of our local heritage project ‘Morlands and Baily’s: Industry and Community in Glastonbury and Street‘. It is made possible by a grant from the National Lottery Heritage Fund. \nWe hope that anyone with a connection to\, memory of\, or interest in Morlands or Baily’s will come along to meet others\, share memories and enjoy tea\, coffee and cake. Each session we will have a different talking point\, and there will be photos\, magazines and artefacts to enjoy. \nThe Heritage Café is completely free and is held in the Event Space at the Red Brick Building on the last Friday morning of each month between 10am and 12.30pm. If you would like more information\, please email heritage@redbrickbuilding.co.uk \nAll are welcome. Come along and bring a friend! \n  \nLast Friday of the Month (unless otherwise stated) \n10am – 12.30pm \n 
URL:https://www.redbrickbuilding.co.uk/event/heritage-cafe-2025-05-23/
LOCATION:The Red Brick Building\, Morland Road\, Glastonbury\, Somerset\, BA6 9FT\, United Kingdom
CATEGORIES:All,Community
ATTACH;FMTTYPE=image/jpeg:https://s3.eu-west-2.amazonaws.com/static.redbrickbuilding.co.uk/wp-content/uploads/2024/06/20173527/Heritage-Cafe-Featured-Image.jpg
ORGANIZER;CN="The Red Brick Building":MAILTO:info@redbrickbuilding.co.uk
END:VEVENT
BEGIN:VEVENT
DTSTART;TZID=Europe/London:20250524T190000
DTEND;TZID=Europe/London:20250525T000000
DTSTAMP:20260424T210757
CREATED:20250515T112933Z
LAST-MODIFIED:20250515T112933Z
UID:87916-1748113200-1748131200@www.redbrickbuilding.co.uk
SUMMARY:May Day Reggae Jam
DESCRIPTION:Natami Music Ltd. Presents \nMay Day Reggae Jam\n  \nFeaturing: \nOwen Isaac \nSelvie Wonder \nSteppey Boss \nUniquestar Sound \nJah Lokko Sound \nRas Makonnen \nWarrior Sound \nJah Harmony \n  \nSaturday 24th May \n7pm – late \n  \nTickets \n£15 on the door \n  \nFor more info\, contact: 07388 645025 / 07947 257371 \n 
URL:https://www.redbrickbuilding.co.uk/event/may-day-reggae-jam-2025/
LOCATION:The Red Brick Building\, Morland Road\, Glastonbury\, Somerset\, BA6 9FT\, United Kingdom
CATEGORIES:All,Entertainment,Gig,Live,Music
ATTACH;FMTTYPE=image/jpeg:https://s3.eu-west-2.amazonaws.com/static.redbrickbuilding.co.uk/wp-content/uploads/2025/05/15122834/May-Day-Reggae-Jam-2025-Featured-Image.jpg
END:VEVENT
END:VCALENDAR