BEGIN:VCALENDAR
VERSION:2.0
PRODID:-//The Red Brick Building - ECPv6.14.0//NONSGML v1.0//EN
CALSCALE:GREGORIAN
METHOD:PUBLISH
X-ORIGINAL-URL:https://www.redbrickbuilding.co.uk
X-WR-CALDESC:Events for The Red Brick Building
REFRESH-INTERVAL;VALUE=DURATION:PT1H
X-Robots-Tag:noindex
X-PUBLISHED-TTL:PT1H
BEGIN:VTIMEZONE
TZID:Europe/London
BEGIN:DAYLIGHT
TZOFFSETFROM:+0000
TZOFFSETTO:+0100
TZNAME:BST
DTSTART:20250330T010000
END:DAYLIGHT
BEGIN:STANDARD
TZOFFSETFROM:+0100
TZOFFSETTO:+0000
TZNAME:GMT
DTSTART:20251026T010000
END:STANDARD
END:VTIMEZONE
BEGIN:VEVENT
DTSTART;TZID=Europe/London:20250815T190000
DTEND;TZID=Europe/London:20250815T210000
DTSTAMP:20260423T222616
CREATED:20250718T135621Z
LAST-MODIFIED:20250718T135621Z
UID:88051-1755284400-1755291600@www.redbrickbuilding.co.uk
SUMMARY:Love Said To Me: Sufi Poetry & Sacred Music Concert
DESCRIPTION:Ellaya and Premanjali present \nLove Said To Me: Sufi Poetry & Sacred Music Concert\n  \n“Love Said to Me” is a heartfelt collaboration between local sacred music duo Premanjali and guest artist Ellaya from Israel. United by their shared love of poetry\, prayer\, and devotional song\, they weave the timeless words of Rumi and Hafiz into mantras and heart songs. \nMoving through laughter and lightness to tender sweetness\, poignant longing and ecstatic joy\, Ellaya and Elise & Charlie (Premanjali) create an atmosphere of beauty and devotion—a musical journey that invites the heart to open in a rare and unforgettable concert experience. \n  \nEllaya is an Israeli storyteller\, spoken word artist\, Buddhism teacher and lover of poetry\, with a deep affinity for Sufi poetry. Dedicated to Peace work and guided by her love of Rumi and Hafiz\, Ellaya has developed a unique approach to performance\, that delivers 13th century poetry as live and contemporary spoken word\, creating a vibrant and mystical experience\, infused with her own personal touch. \n  \nFriday 15th August \nDoors: 6.30pm \n7pm – 9pm \n  \nTickets \n£15 – £25\, sliding scale \nAdvance tickets available to book here: https://premanjali.co.uk/ticket-tailor-love-said-to-me-glastonbury \n 
URL:https://www.redbrickbuilding.co.uk/event/love-said-to-me-aug-2025/
LOCATION:The Red Brick Building\, Morland Road\, Glastonbury\, Somerset\, BA6 9FT\, United Kingdom
CATEGORIES:All,Entertainment,Gig,Live,Music,Wellbeing
ATTACH;FMTTYPE=image/jpeg:https://www.redbrickbuilding.co.uk/wp-content/uploads/2025/07/Premanjali-Love-Said-To-Me-2025-Featured-Image.jpg
ORGANIZER;CN="Premanjali":MAILTO:info@premanjali.co.uk
END:VEVENT
BEGIN:VEVENT
DTSTART;TZID=Europe/London:20250913T093000
DTEND;TZID=Europe/London:20250913T163000
DTSTAMP:20260423T222616
CREATED:20250404T133627Z
LAST-MODIFIED:20250404T133627Z
UID:87169-1757755800-1757781000@www.redbrickbuilding.co.uk
SUMMARY:Galactivation: Spiritual Day Retreat
DESCRIPTION:Galactivation\nSpiritual Day Retreat\n  \nHeart consciousness awakening \n  \nA day to connect with the heart and soul in the heart chakra centre of the world\, Glastonbury. \nFeaturing: \nSkilled Facilitators \nBlue Lotus Ceremony \nKundalini Activation \nLight Language \nSound Healing & Bath \nQi Gong \nCacao Circle \nBreathwork \nSharing Circle \n  \nSaturday 13th September \n9.30am – 4.30pm \n  \nPrice \n£122.22 per person \n  \nFor more info and to book \nContact Rachel Tapping on rachel.tapping@icloud.com \n 
URL:https://www.redbrickbuilding.co.uk/event/galactivation-spiritual-day-retreat/
LOCATION:The Red Brick Building\, Morland Road\, Glastonbury\, Somerset\, BA6 9FT\, United Kingdom
CATEGORIES:All,Dance,Live,Wellbeing,Workshop
ATTACH;FMTTYPE=image/jpeg:https://s3.eu-west-2.amazonaws.com/static.redbrickbuilding.co.uk/wp-content/uploads/2025/04/04143350/Galactivation-2025-Featured-Image.jpg
ORGANIZER;CN="Rachel Tapping":MAILTO:rachel@glowwithrachel.co.uk
END:VEVENT
BEGIN:VEVENT
DTSTART;TZID=Europe/London:20251010T183000
DTEND;TZID=Europe/London:20251010T213000
DTSTAMP:20260423T222616
CREATED:20250916T161835Z
LAST-MODIFIED:20250916T161835Z
UID:88122-1760121000-1760131800@www.redbrickbuilding.co.uk
SUMMARY:The Lamplighter: Workshop Event
DESCRIPTION:Fight or Flight Creatives and GWS Radio present \nThe Lamplighter: Workshop Event\n  \nA first glimpse of The Lamplighter’s journey. A story of loss\, darkness\, light\, and hope. \n  \nBlending music\, narration and imagery\, this workshop shares the beginning of The Lamplighter’s story. \nOn World Mental Health Day\, it demonstrates how the arts can explore loss\, darkness\, light and hope\, and promote well-being. \n  \nWhat to expect: \n\nMusic & narration – weaving sound and story together\nVisual backdrops – imagery guiding the journey\nAudience Q&A – reflections on the story’s themes\nRefreshments at the bar\n\n  \nA Small Plates Menu will also be available from Red Brick Kitchen & Bar\, to enjoy before the show or during the interval. To book a reservation for food\, contact cafe@redbrickbuilding.co.uk \n  \nFriday 10th October \nDoors: 6.30pm\, with an opportunity to meet the team before the show. \nEvent starts at 7.30pm \n  \nFREE ENTRY \n  \n  \nAbout Fight or Flight Creatives: \n“Together we have teamed up to make one man’s vision come to life by using all of our talents\, skills\, hobbies and passions to create a beautiful Story called The Lamplighter. We aim to raise awareness of the world’s hurdles that society faces on a daily basis by using our skills as the perfect ammunition. \n“This project focuses on bringing light to topics of struggle that some people may think they have to go through alone. It’s a chance for us to speak out in a creative way and show people that they are are not alone in their path for fight or flight. “You’re not alone. We’ll stand and fight”. \n“By combining talents of script writing\, illustrations\, music production and composition\, acting\, singing\, research and story telling\,\nwe are all able to create a beautiful weapon to battle against fight or flight response and bring everyday people of all ages comfort and reassurance that their journey is one that we are all taking in life together and never alone. \n“Our project not only gives us a stage to showcase our passions and abilities through many talents in one magical story\, but also gives others a chance to have a voice and be a part of it too. It gives people the opportunity to open up about their own anxieties and demons and finally put them to bed in the most beautiful way of magical storytelling and audiobook format.” \n 
URL:https://www.redbrickbuilding.co.uk/event/the-lamplighter-2025/
LOCATION:The Red Brick Building\, Morland Road\, Glastonbury\, Somerset\, BA6 9FT\, United Kingdom
CATEGORIES:All,Community,Entertainment,Live,Theatre,Wellbeing,Workshop
ATTACH;FMTTYPE=image/jpeg:https://www.redbrickbuilding.co.uk/wp-content/uploads/2025/09/The-Lamplighter-2025-Featured-Image.jpg
ORGANIZER;CN="The Red Brick Building":MAILTO:info@redbrickbuilding.co.uk
END:VEVENT
END:VCALENDAR