BEGIN:VCALENDAR
VERSION:2.0
PRODID:-//The Red Brick Building - ECPv6.14.0//NONSGML v1.0//EN
CALSCALE:GREGORIAN
METHOD:PUBLISH
X-ORIGINAL-URL:https://www.redbrickbuilding.co.uk
X-WR-CALDESC:Events for The Red Brick Building
REFRESH-INTERVAL;VALUE=DURATION:PT1H
X-Robots-Tag:noindex
X-PUBLISHED-TTL:PT1H
BEGIN:VTIMEZONE
TZID:Europe/London
BEGIN:DAYLIGHT
TZOFFSETFROM:+0000
TZOFFSETTO:+0100
TZNAME:BST
DTSTART:20230326T010000
END:DAYLIGHT
BEGIN:STANDARD
TZOFFSETFROM:+0100
TZOFFSETTO:+0000
TZNAME:GMT
DTSTART:20231029T010000
END:STANDARD
END:VTIMEZONE
BEGIN:VEVENT
DTSTART;TZID=Europe/London:20230518T193000
DTEND;TZID=Europe/London:20230518T203000
DTSTAMP:20260423T110631
CREATED:20221025T123910Z
LAST-MODIFIED:20230331T153109Z
UID:81176-1684438200-1684441800@www.redbrickbuilding.co.uk
SUMMARY:Yin Yoga
DESCRIPTION:Yin Yoga\nWith Michelle Facey from Unfolding Space Studio \n  \nA deep restorative practice\, where poses will be held to encourage muscles and ligaments to relax and\, in the process\, relieve tension and stress in areas of the body. \n  \nThursday 18th May \n7.30pm – 8.30pm \n  \nPrice \n£10 (discounts available for class packages) \n  \nFore more info and to book: \nVisit: www.unfoldingspacestudio.com \nOr email: info@unfoldingspacestudio.com \n 
URL:https://www.redbrickbuilding.co.uk/event/yin-yoga-may-2023/
LOCATION:The Red Brick Building\, Morland Road\, Glastonbury\, Somerset\, BA6 9FT\, United Kingdom
CATEGORIES:All,Classes,Wellbeing,Yoga
ATTACH;FMTTYPE=image/jpeg:https://s3.eu-west-2.amazonaws.com/static.redbrickbuilding.co.uk/wp-content/uploads/2023/03/31133230/Yin-Yoga-Featured-Image-1.jpg
ORGANIZER;CN="Unfolding Space Studio":MAILTO:info@unfoldingspacestudio.com
END:VEVENT
END:VCALENDAR