BEGIN:VCALENDAR
VERSION:2.0
PRODID:-//The Red Brick Building - ECPv6.14.0//NONSGML v1.0//EN
CALSCALE:GREGORIAN
METHOD:PUBLISH
X-ORIGINAL-URL:https://www.redbrickbuilding.co.uk
X-WR-CALDESC:Events for The Red Brick Building
REFRESH-INTERVAL;VALUE=DURATION:PT1H
X-Robots-Tag:noindex
X-PUBLISHED-TTL:PT1H
BEGIN:VTIMEZONE
TZID:Europe/London
BEGIN:DAYLIGHT
TZOFFSETFROM:+0000
TZOFFSETTO:+0100
TZNAME:BST
DTSTART:20240331T010000
END:DAYLIGHT
BEGIN:STANDARD
TZOFFSETFROM:+0100
TZOFFSETTO:+0000
TZNAME:GMT
DTSTART:20241027T010000
END:STANDARD
END:VTIMEZONE
BEGIN:VEVENT
DTSTART;TZID=Europe/London:20240503T200000
DTEND;TZID=Europe/London:20240504T000000
DTSTAMP:20260423T143617
CREATED:20240418T160913Z
LAST-MODIFIED:20240418T160913Z
UID:84681-1714766400-1714780800@www.redbrickbuilding.co.uk
SUMMARY:DJ Jah Harmony & Mikail Rose: Roots Reggae & Live Saxophone
DESCRIPTION:DJ Jah Harmony & Mikail Rose\nRoots Reggae & Live Saxophone\n  \nReggae\, Funk\, Hip-Hop and Soul \n  \nJoin DJ Jah Harmony and Mikail Rose for a joyful evening of Roots Reggae and live saxophone. In loving memory of Susan Rukaya Rose. \n  \nFriday 3rd May \n8pm – late \n  \nTickets \n£5 on the door \nAll proceeds going to St Margaret’s Hospice \n  \n18’s and over only
URL:https://www.redbrickbuilding.co.uk/event/dj-jah-harmony-may-2024/
LOCATION:The Red Brick Building\, Morland Road\, Glastonbury\, Somerset\, BA6 9FT\, United Kingdom
CATEGORIES:All,Entertainment,Gig,Live,Music
ATTACH;FMTTYPE=image/jpeg:https://s3.eu-west-2.amazonaws.com/static.redbrickbuilding.co.uk/wp-content/uploads/2021/08/10125820/DJ-Jah-Harmony-August-2021-Featured-Image.jpg
ORGANIZER;CN="The Red Brick Building":MAILTO:info@redbrickbuilding.co.uk
END:VEVENT
BEGIN:VEVENT
DTSTART;TZID=Europe/London:20240510T190000
DTEND;TZID=Europe/London:20240510T233000
DTSTAMP:20260423T143617
CREATED:20240503T122423Z
LAST-MODIFIED:20240503T122553Z
UID:84874-1715367600-1715383800@www.redbrickbuilding.co.uk
SUMMARY:StrodeLive 2024 Album Launch
DESCRIPTION:StrodeLive 2024 Album Launch\n  \nThis event is to celebrate the online launch of the StrodeLive 2024 album. A collective of songs created by the StrodeLive consortium of musicians. This event celebrates their hard work. \n  \nFriday 10th May \n7pm – late \n  \nTickets \n£7\, Under 18’s and Students \n£10\, General Admission \nAdvance tickets available here: www.ticketsource.co.uk \n 
URL:https://www.redbrickbuilding.co.uk/event/strodelive-2024/
LOCATION:The Red Brick Building\, Morland Road\, Glastonbury\, Somerset\, BA6 9FT\, United Kingdom
CATEGORIES:All,Entertainment,Gig,Live,Music
ATTACH;FMTTYPE=image/jpeg:https://s3.eu-west-2.amazonaws.com/static.redbrickbuilding.co.uk/wp-content/uploads/2024/05/03131703/Strode-Live-Featured-Image.jpg
END:VEVENT
BEGIN:VEVENT
DTSTART;TZID=Europe/London:20240512T130000
DTEND;TZID=Europe/London:20240512T150000
DTSTAMP:20260423T143617
CREATED:20240402T143357Z
LAST-MODIFIED:20240402T143357Z
UID:84552-1715518800-1715526000@www.redbrickbuilding.co.uk
SUMMARY:Lunchtime Jazz with the Wells Jazz Collective - May
DESCRIPTION:Lunchtime Jazz\nWith the Wells Jazz Collective\n  \nThe perfect blend of good food and cool jazz \n  \nThis combination of smooth jazz and delicious food makes for the perfect chilled out Sunday. Food is prepared to order by The Old Tannery kitchen\, while live jazz is served up by the Wells Jazz Collective. \nDiners are recommended to book with The Old Tannery in advance. Please contact 01458 440558 or theoldtanneryglastonbury@outlook.com \n  \nSunday 12th May \n1pm – 3pm \n  \nFree entry \nDonations welcome \n 
URL:https://www.redbrickbuilding.co.uk/event/lunchtime-jazz-may-2024/
LOCATION:The Red Brick Building\, Morland Road\, Glastonbury\, Somerset\, BA6 9FT\, United Kingdom
CATEGORIES:All,Entertainment,Gig,Live,Music
ATTACH;FMTTYPE=image/jpeg:https://s3.eu-west-2.amazonaws.com/static.redbrickbuilding.co.uk/wp-content/uploads/2022/04/01111256/Wells-Jazz-Collective-Featured-Image-3.jpg
ORGANIZER;CN="The Red Brick Building":MAILTO:info@redbrickbuilding.co.uk
END:VEVENT
BEGIN:VEVENT
DTSTART;TZID=Europe/London:20240517T200000
DTEND;TZID=Europe/London:20240518T004500
DTSTAMP:20260423T143617
CREATED:20240430T124250Z
LAST-MODIFIED:20240503T135845Z
UID:84266-1715976000-1715993100@www.redbrickbuilding.co.uk
SUMMARY:CANCELLED: Ace Audio Launch Event
DESCRIPTION:*CANCELLED*\nAce Audio Launch Event\n  \nDJ/Beatboxer event showcasing DnB\, UKG\, House and more\, with a top 20 UK beatboxer! \n  \nAce Audio present their first ever event at the Red Brick Building. Consisting of a top 20 beatboxer and a huge Soundsystem. Plus\, DJ Slighty – who will be spinning the best in UKG\, DnB\, and House – and LouieDnB\, who has some of the greatest DnB bootlegs and tracks on Soundcloud. \n  \nFeaturing: \nJWDBBX \nDJ Slighty \nLouieDnB \n  \nFriday 17th May \n8pm – 12.45am \n  \nTickets \nFrom £5 \nAdvance tickets available here: www.app.promotix.com/events/details/Ace-Audio-DJ-Night-tickets \n  \n18’s and over only
URL:https://www.redbrickbuilding.co.uk/event/ace-audio-launch-event/
LOCATION:The Red Brick Building\, Morland Road\, Glastonbury\, Somerset\, BA6 9FT\, United Kingdom
CATEGORIES:All,Gig,Live,Music
ATTACH;FMTTYPE=image/jpeg:https://s3.eu-west-2.amazonaws.com/static.redbrickbuilding.co.uk/wp-content/uploads/2024/04/30134032/Ace-Audio-Launch-Event-Featured-Image.jpg
ORGANIZER;CN="The Red Brick Building":MAILTO:info@redbrickbuilding.co.uk
END:VEVENT
BEGIN:VEVENT
DTSTART;TZID=Europe/London:20240518T190000
DTEND;TZID=Europe/London:20240519T000000
DTSTAMP:20260423T143617
CREATED:20240423T172337Z
LAST-MODIFIED:20240514T093933Z
UID:84683-1716058800-1716076800@www.redbrickbuilding.co.uk
SUMMARY:POSTPONED: Reggae's Finest from England and Jamaica!
DESCRIPTION:Natami Music Presents\nReggae’s Finest from England and Jamaica!\n  \n— \nN.B. We’re very sorry to announce that\, due to unforeseen circumstances\, Natami Music has decided to postpone this event until later in the year. Our sincere apologies for any disappointment caused. All ticket holders have been contacted with details of a full refund. \n— \n  \nA night of love and unity \n  \nStarring: \nSinger Blue \nJah T \nOwen Isaac \nAction Fire \nPaycus \nSound Systems Sir Coxone with Warrior Sound \n  \nSaturday 18th May \n7pm – late \n  \nTickets \n£15 \n  \nFor more info\, contact Natami Music on 07715 034987 or 07947 257371 \n  \n18’s and over only \nPlease note\, tickets are non-refundable unless the event is cancelled
URL:https://www.redbrickbuilding.co.uk/event/reggaes-finest-2024/
LOCATION:The Red Brick Building\, Morland Road\, Glastonbury\, Somerset\, BA6 9FT\, United Kingdom
CATEGORIES:All,Entertainment,Gig,Live,Music
ATTACH;FMTTYPE=image/jpeg:https://s3.eu-west-2.amazonaws.com/static.redbrickbuilding.co.uk/wp-content/uploads/2024/04/19131022/Reggaes-Finest-from-England-and-Jamaica-Featured-Image.jpg
END:VEVENT
BEGIN:VEVENT
DTSTART;TZID=Europe/London:20240525T193000
DTEND;TZID=Europe/London:20240526T000000
DTSTAMP:20260423T143617
CREATED:20240227T132103Z
LAST-MODIFIED:20240525T065300Z
UID:84189-1716665400-1716681600@www.redbrickbuilding.co.uk
SUMMARY:Immortal Onion x Michal Jan
DESCRIPTION:The Red Hot Jazz Club presents\nImmortal Onion x Michal Jan\n  \nN.B. Advance ticket sales have now stopped. Entry tickets will be available to purchase on the door from 7.30pm tonight. \n  \nJazz Prog Polish Trio\, with Saxophonist Michał Jan Ciesielski \nImmortal Onion are an instrumental band from Gdańsk\, Poland. The group consists of Wojtek Warmijak (drums)\, Tomir Śpiołek (piano\, synths) and Ziemowit Klimek (double bass\, synths). This tour will also see them performing with saxophonist Michał Jan Ciesielski. \nImmortal Onion have already built a strong position as one of the most interesting\, new jazz projects from Poland. After two well received albums (“Ocelot of Salvation” in 2017 and “XD [Experience Design]” in 2020\, U Know Me Records)\, they had the pleasure of presenting the new release called “Screens” recorded at the initiative of the saxophonist Michał Jan Ciesielski. \nThe trio performed its original material at many venues and festivals in 16 countries around Europe. \nThe inspiration for the band formation were\, to name just a few\, Esbjörn Svensson\, Hiromi Uehara and Tigran Hamasyan\, In terms of genre\, Immortal Onion offers a bold combination of many seemingly remote styles – jazz\, film music\, minimalism as well as fusion\, electronic music and even progressive metal. \nThe unique sound of the group originates from the stylistic variety\, and skilful combination of rhythmically complex\, energetic riffs with minimalistic\, trans beats and lyrical theme. \n  \nSaturday 25th May \nDoors: 7.30pm \nStart: 8pm \n  \nTickets \nEntry: £12 advance \nLentil & Carrot Falafel\, Coleslaw & Sauté Potato*: £9.50 (advance booking only) \nPork Croquette\, Coleslaw & Sauté Potato*: £9.50 (advance booking only) \n*For special dietary requirements\, please contact The Old Tannery restaurant on theoldtanneryglastonbury@outlook.com or 01458 440558. \nPlease note food options are subject to change. \n  \nFor more information about this event\, please contact theredhotjazzclub@gmail.com \n  \n18’s and over only \nPlease note\, tickets are non-refundable unless the event is cancelled
URL:https://www.redbrickbuilding.co.uk/event/immortal-onion-2024/
LOCATION:The Red Brick Building\, Morland Road\, Glastonbury\, Somerset\, BA6 9FT\, United Kingdom
CATEGORIES:All,Entertainment,Gig,Live,Music
ATTACH;FMTTYPE=image/jpeg:https://s3.eu-west-2.amazonaws.com/static.redbrickbuilding.co.uk/wp-content/uploads/2024/02/23124854/Immortal-Onion-x-Michal-Jan-Featured-Image-1.jpg
ORGANIZER;CN="The Red Hot Jazz Club":MAILTO:theredhotjazzclub@gmail.com
END:VEVENT
BEGIN:VEVENT
DTSTART;TZID=Europe/London:20240526T190000
DTEND;TZID=Europe/London:20240526T233000
DTSTAMP:20260423T143617
CREATED:20230810T103823Z
LAST-MODIFIED:20230810T103823Z
UID:82079-1716750000-1716766200@www.redbrickbuilding.co.uk
SUMMARY:The Bluetones
DESCRIPTION:The Pad Presents \nThe Bluetones (Acoustic)\n+ Enjoyable Listens\n  \nThe Bluetones frontman Mark Morriss and his partner in crime Adam Devlin are taking their ‘Bluetones Acoustic’ show back out on the road in spring ’24 and will be making a ‘Slight Return’ to the Red Brick Building. \nThe band\, formed in 1993\, had an impressive run of hit singles throughout the late 90’s/early 00’s\, including ’Bluetonic’\, ‘Slight Return’\, ‘Marblehead Johnson’\, ‘Solomon Bites The Worm’\, ‘If’ and ‘Keep the Fires Burning’. They scored thirteen Top 40 singles and three Top 10 albums in the UK charts before a hiatus in 2010. Returning in 2015 with a run of sell out shows\, the band continue to tour to packed houses up and down the UK. This is a unique chance to hear the classics stripped back with shows at more intimate venues the band don’t usually play. \nSpecial guest support comes from Enjoyable Listens. \n  \nSunday 26th May \n7pm – late \n  \nTickets \n£20 advance \n  \n18’s and over only \nPlease note\, tickets are non-refundable unless the event is cancelled
URL:https://www.redbrickbuilding.co.uk/event/the-bluetones-may-2024/
LOCATION:The Red Brick Building\, Morland Road\, Glastonbury\, Somerset\, BA6 9FT\, United Kingdom
CATEGORIES:All,Entertainment,Gig,Live,Music
ATTACH;FMTTYPE=image/jpeg:https://s3.eu-west-2.amazonaws.com/static.redbrickbuilding.co.uk/wp-content/uploads/2023/08/08152459/The-Bluetones-2024-Featured-Image.jpg
ORGANIZER;CN="The Red Brick Building":MAILTO:info@redbrickbuilding.co.uk
END:VEVENT
BEGIN:VEVENT
DTSTART;TZID=Europe/London:20240531T193000
DTEND;TZID=Europe/London:20240531T223000
DTSTAMP:20260423T143617
CREATED:20240308T123751Z
LAST-MODIFIED:20240525T065937Z
UID:84383-1717183800-1717194600@www.redbrickbuilding.co.uk
SUMMARY:*SOLD OUT* Mark Thomas: Gaffa Tapes: Warm Up
DESCRIPTION:Phil McIntyre Live ltd proudly presents \nMark Thomas: Gaffa Tapes: Warm Up\n  \n*SOLD OUT*\n  \nJoin Mark as he tries out material for his brand-new show. \nJokes\, rants\, politics\, play\, and the occasional sing song. If you don’t know what he does\, ask your parents. \nIn his time\, Mark Thomas has won awards (current total is now officially ‘f*ckloads’)\, forced a politician to resign\, changed laws on tax and protest\, become Guinness Book of Records world record holder for number of protests in 24 hours\, taken the police to court 3 times and won\, walked the length of the Israeli Wall in the West Bank\, and generally mucked about trying to have fun and f*ck the right people off. \nThis show is more of the above. \n  \n“You’ll leave recommitted to the fight against this appalling authoritarian government\, to keep that tradition alive.” – Guardian 2021 \n  \nFriday 31st May \nDoors: 7.30pm \nStart: 8pm \n  \nTickets \n£15 \n£10 concession (students\, pensioners and low income earners) – *limited availability* \n  \nPlease note\, tickets are non-refundable unless the event is cancelled
URL:https://www.redbrickbuilding.co.uk/event/mark-thomas-may-2024/
LOCATION:The Red Brick Building\, Morland Road\, Glastonbury\, Somerset\, BA6 9FT\, United Kingdom
CATEGORIES:All,Comedy,Entertainment,Gig,Live
ATTACH;FMTTYPE=image/jpeg:https://s3.eu-west-2.amazonaws.com/static.redbrickbuilding.co.uk/wp-content/uploads/2024/03/08123708/Mark-Thomas-Gaffa-Tapes-Featured-Image.jpg
ORGANIZER;CN="The Red Brick Building":MAILTO:info@redbrickbuilding.co.uk
END:VEVENT
END:VCALENDAR