BEGIN:VCALENDAR
VERSION:2.0
PRODID:-//The Red Brick Building - ECPv6.14.0//NONSGML v1.0//EN
CALSCALE:GREGORIAN
METHOD:PUBLISH
X-WR-CALNAME:The Red Brick Building
X-ORIGINAL-URL:https://www.redbrickbuilding.co.uk
X-WR-CALDESC:Events for The Red Brick Building
REFRESH-INTERVAL;VALUE=DURATION:PT1H
X-Robots-Tag:noindex
X-PUBLISHED-TTL:PT1H
BEGIN:VTIMEZONE
TZID:Europe/London
BEGIN:DAYLIGHT
TZOFFSETFROM:+0000
TZOFFSETTO:+0100
TZNAME:BST
DTSTART:20220327T010000
END:DAYLIGHT
BEGIN:STANDARD
TZOFFSETFROM:+0100
TZOFFSETTO:+0000
TZNAME:GMT
DTSTART:20221030T010000
END:STANDARD
END:VTIMEZONE
BEGIN:VEVENT
DTSTART;TZID=Europe/London:20221003T100000
DTEND;TZID=Europe/London:20221003T170000
DTSTAMP:20260424T161515
CREATED:20220909T135913Z
LAST-MODIFIED:20221003T090805Z
UID:78560-1664791200-1664816400@www.redbrickbuilding.co.uk
SUMMARY:Somerset Art Weeks 2022: 'Sanctuary' Exhibition
DESCRIPTION:Red Brick Building & The Old Tannery present \nSomerset Art Weeks 2022\n‘Sanctuary’ Exhibition\n  \nSaturday 24th September – Sunday 9th October \nOpen daily\, 10am – 5pm \nFree to attend \nVenue 063 \n  \nSomerset Art Weeks Festival returns in 2022 with the theme of ‘Sanctuary’. \nSomerset Open Studios and Art Weeks Events are annual countywide celebrations of the variety and quality of contemporary visual art and craft that can be found in Somerset. \nSince the inception of Somerset Art Weeks in 1994\, they have become important events in Somerset’s cultural calendar\, delighting art lovers near and far. \nThe 2019 Somerset Art Weeks Festival saw over 80\,000 visitors engage with art and creativity across 135 venues throughout Somerset. \n  \nFeatured Artists at the Red Brick Building: \nPaintings: Paul Branson ~ Robin Gray ~ Wendy Robinson ~ Sarah Slaughter ~ Antony Van Raalte \nPhotography: John Fleming ~ Lex Tully \nSculpture: Francis Morland \nTextiles: Suzi Dale ~ Silvia Prandini \nInstallations: Andrew Gowland ~ Tim Knock \nIn the Community Garden: Julia Bedford ~ Ramona Belcher ~ Karen Chard ~ Heidi Hancock ~ John Golle ~ Donna Norton ~ Jya Raine ~ Rory Weightman \n  \nSAW Events: \nThursday 29th September: Glastonbury Mental Health Network’s ‘The Snug’\, 11am – 3pm \nFriday 30th September: The Rime of the Ancient Mariner – Immersive Experience\, 7.30pm – 10pm \nSaturday 1st October: An Acoustic Evening with Gabrielle Aplin\, 8pm – 10pm ~ Now rescheduled to 22nd October \nSunday 2nd October: Natural Dyeing Workshop\, 11am – 3pm \nFriday 7th October: Glastonbury Folk Club: Jenny Bliss and Friends\, 8pm – late \nSaturday 8th & Sunday 9th October: Mosaic Making in and for the Community Garden\, 11am – 4pm \n  \n  \nFor more information about Somerset Art Weeks\, visit: www.somersetartworks.org.uk \n 
URL:https://www.redbrickbuilding.co.uk/event/saw-2022-2/
LOCATION:The Red Brick Building\, Morland Road\, Glastonbury\, Somerset\, BA6 9FT\, United Kingdom
CATEGORIES:All,Art,Craft,Entertainment,Exhibition,Garden,Live
ATTACH;FMTTYPE=image/jpeg:https://s3.eu-west-2.amazonaws.com/static.redbrickbuilding.co.uk/wp-content/uploads/2022/09/09133641/Somerset-Art-Weeks-2022-Featured-Image.jpg
ORGANIZER;CN="The Red Brick Building":MAILTO:info@redbrickbuilding.co.uk
END:VEVENT
BEGIN:VEVENT
DTSTART;TZID=Europe/London:20221009T100000
DTEND;TZID=Europe/London:20221009T170000
DTSTAMP:20260424T161515
CREATED:20220909T140001Z
LAST-MODIFIED:20221003T090912Z
UID:78562-1665309600-1665334800@www.redbrickbuilding.co.uk
SUMMARY:Somerset Art Weeks 2022: 'Sanctuary' Exhibition
DESCRIPTION:Red Brick Building & The Old Tannery present \nSomerset Art Weeks 2022\n‘Sanctuary’ Exhibition\n  \nSaturday 24th September – Sunday 9th October \nOpen daily\, 10am – 5pm \nFree to attend \nVenue 063 \n  \nSomerset Art Weeks Festival returns in 2022 with the theme of ‘Sanctuary’. \nSomerset Open Studios and Art Weeks Events are annual countywide celebrations of the variety and quality of contemporary visual art and craft that can be found in Somerset. \nSince the inception of Somerset Art Weeks in 1994\, they have become important events in Somerset’s cultural calendar\, delighting art lovers near and far. \nThe 2019 Somerset Art Weeks Festival saw over 80\,000 visitors engage with art and creativity across 135 venues throughout Somerset. \n  \nFeatured Artists at the Red Brick Building: \nPaintings: Paul Branson ~ Robin Gray ~ Wendy Robinson ~ Sarah Slaughter ~ Antony Van Raalte \nPhotography: John Fleming ~ Lex Tully \nSculpture: Francis Morland \nTextiles: Suzi Dale ~ Silvia Prandini \nInstallations: Andrew Gowland ~ Tim Knock \nIn the Community Garden: Julia Bedford ~ Ramona Belcher ~ Karen Chard ~ Heidi Hancock ~ John Golle ~ Donna Norton ~ Jya Raine ~ Rory Weightman \n  \nSAW Events: \nThursday 29th September: Glastonbury Mental Health Network’s ‘The Snug’\, 11am – 3pm \nFriday 30th September: The Rime of the Ancient Mariner – Immersive Experience\, 7.30pm – 10pm \nSaturday 1st October: An Acoustic Evening with Gabrielle Aplin\, 8pm – 10pm ~ Now rescheduled to 22nd October \nSunday 2nd October: Natural Dyeing Workshop\, 11am – 3pm \nFriday 7th October: Glastonbury Folk Club: Jenny Bliss and Friends\, 8pm – late \nSaturday 8th & Sunday 9th October: Mosaic Making in and for the Community Garden\, 11am – 4pm \n  \n  \nFor more information about Somerset Art Weeks\, visit: www.somersetartworks.org.uk \n 
URL:https://www.redbrickbuilding.co.uk/event/saw-2022-3/
LOCATION:The Red Brick Building\, Morland Road\, Glastonbury\, Somerset\, BA6 9FT\, United Kingdom
CATEGORIES:All,Art,Craft,Entertainment,Exhibition,Garden,Live
ATTACH;FMTTYPE=image/jpeg:https://s3.eu-west-2.amazonaws.com/static.redbrickbuilding.co.uk/wp-content/uploads/2022/09/09133641/Somerset-Art-Weeks-2022-Featured-Image.jpg
ORGANIZER;CN="The Red Brick Building":MAILTO:info@redbrickbuilding.co.uk
END:VEVENT
BEGIN:VEVENT
DTSTART;TZID=Europe/London:20221022T100000
DTEND;TZID=Europe/London:20221022T160000
DTSTAMP:20260424T161515
CREATED:20220830T112547Z
LAST-MODIFIED:20220830T112618Z
UID:78455-1666432800-1666454400@www.redbrickbuilding.co.uk
SUMMARY:Galactic Art Workshop
DESCRIPTION:Galactic Art Workshop\nWith Fay Vale \n  \nThis Galactic Art workshop begins with a short meditation\, followed by energy work to recognise energies coming in. After a lunch break\, Fay will guide you in tuning in to the planets and the universe to enable you to connect to cosmic beings. Fay will then lead a drawing session\, in which you will draw with the less dominate hand\, to see what comes through. \n  \nAbout Fay Vale: \nI call my work Galactic Art because it comes from other planets & dimensions \nIt all goes back to July 2007 when I\, along with a friend\, had a close encounter with a UFO. The experience has changed my life completely in a really positive and especially artistic way. My work began two weeks after the encounter and I have been drawing and channelling messages ever since. \nPrior to the experience\, I never had any desire to produce art\, and as a busy wife and mother it wasn’t even in my thoughts. I have also never received any training in this field\, so when it came into my life one morning\, I was completely surprised and quite shaken. I just woke up and had an overwhelming urge to take a paper and pencil and draw. \nI knew the art was coming through me rather than from me because it just flowed\, without conscious thought or interruption. What was particularly surprising was that I was using my left hand\, though I am right-handed\, so naturally it would have made more sense to use my dominant hand to write or draw. \nSince 2007 my work has developed as the connection has become stronger. I am always happy to share my experience with the others so please contact me with any questions\, or if you have a similar story you wish to share. \n  \n  \nCost \n£45 per person. All materials are provided. \nLimited spaces available \n  \nFor more info and to book \nContact Fay Vale at www.galactic-art.co.uk
URL:https://www.redbrickbuilding.co.uk/event/galactic-art-workshop-2022/
LOCATION:The Red Brick Building\, Morland Road\, Glastonbury\, Somerset\, BA6 9FT\, United Kingdom
CATEGORIES:All,Art,Live,Workshop
ATTACH;FMTTYPE=image/jpeg:https://s3.eu-west-2.amazonaws.com/static.redbrickbuilding.co.uk/wp-content/uploads/2022/08/30122510/Galactic-Art-Workshop-2022-Featured-Image.jpg
ORGANIZER;CN="The Red Brick Building":MAILTO:info@redbrickbuilding.co.uk
END:VEVENT
END:VCALENDAR