BEGIN:VCALENDAR
VERSION:2.0
PRODID:-//The Red Brick Building - ECPv6.14.0//NONSGML v1.0//EN
CALSCALE:GREGORIAN
METHOD:PUBLISH
X-ORIGINAL-URL:https://www.redbrickbuilding.co.uk
X-WR-CALDESC:Events for The Red Brick Building
REFRESH-INTERVAL;VALUE=DURATION:PT1H
X-Robots-Tag:noindex
X-PUBLISHED-TTL:PT1H
BEGIN:VTIMEZONE
TZID:Europe/London
BEGIN:DAYLIGHT
TZOFFSETFROM:+0000
TZOFFSETTO:+0100
TZNAME:BST
DTSTART:20250330T010000
END:DAYLIGHT
BEGIN:STANDARD
TZOFFSETFROM:+0100
TZOFFSETTO:+0000
TZNAME:GMT
DTSTART:20251026T010000
END:STANDARD
END:VTIMEZONE
BEGIN:VEVENT
DTSTART;TZID=Europe/London:20251108T133000
DTEND;TZID=Europe/London:20251108T163000
DTSTAMP:20260424T162240
CREATED:20251007T161955Z
LAST-MODIFIED:20251009T165944Z
UID:88149-1762608600-1762619400@www.redbrickbuilding.co.uk
SUMMARY:An Introduction to East Asian Calligraphy
DESCRIPTION:An Introduction to East Asian Calligraphy\nWith Matthew James / Yōsetsu \n  \nCome and explore the beauty of East Asian calligraphy in a relaxed\, welcoming setting – no prior knowledge or experience required. \n  \nAn introduction to Chinese and Japanese brush calligraphy by award-winning calligrapher and PhD calligraphy researcher Matthew James (pen-name ‘Mashū’). \nIn this workshop\, you’ll learn about the history\, styles\, and famous names of calligraphy in the Far East before trying to write Chinese characters with a brush and ink. After a little practice\, you’ll have a go at writing on special boards that can be taken home as souvenirs of the experience. \n  \nSaturday 8th November \n1.30pm – 4.30pm \n  \nCost \n£40 per person (includes all materials) \n  \nFor more info and to book \nVisit: https://yo-setsu.com/events/ws-20251108-red-brick-building-glastonbury/ \nOr contact Matthew on admin@yo-setsu.com \n 
URL:https://www.redbrickbuilding.co.uk/event/east-asian-calligraphy-nov-2025/
LOCATION:The Red Brick Building\, Morland Road\, Glastonbury\, Somerset\, BA6 9FT\, United Kingdom
CATEGORIES:All,Classes,Craft,Workshop
ATTACH;FMTTYPE=image/jpeg:https://www.redbrickbuilding.co.uk/wp-content/uploads/2025/10/An-Introduction-to-East-Asian-Calligraphy-Nov-2025-Featured-Image.jpg
ORGANIZER;CN="Y%C5%8Dsetsu":MAILTO:admin@yo-setsu.com
END:VEVENT
END:VCALENDAR