BEGIN:VCALENDAR
VERSION:2.0
PRODID:-//The Red Brick Building - ECPv6.14.0//NONSGML v1.0//EN
CALSCALE:GREGORIAN
METHOD:PUBLISH
X-WR-CALNAME:The Red Brick Building
X-ORIGINAL-URL:https://www.redbrickbuilding.co.uk
X-WR-CALDESC:Events for The Red Brick Building
REFRESH-INTERVAL;VALUE=DURATION:PT1H
X-Robots-Tag:noindex
X-PUBLISHED-TTL:PT1H
BEGIN:VTIMEZONE
TZID:Europe/London
BEGIN:DAYLIGHT
TZOFFSETFROM:+0000
TZOFFSETTO:+0100
TZNAME:BST
DTSTART:20250330T010000
END:DAYLIGHT
BEGIN:STANDARD
TZOFFSETFROM:+0100
TZOFFSETTO:+0000
TZNAME:GMT
DTSTART:20251026T010000
END:STANDARD
END:VTIMEZONE
BEGIN:VEVENT
DTSTART;TZID=Europe/London:20251101T190000
DTEND;TZID=Europe/London:20251102T010000
DTSTAMP:20260424T130531
CREATED:20251014T135244Z
LAST-MODIFIED:20251101T082915Z
UID:88167-1762023600-1762045200@www.redbrickbuilding.co.uk
SUMMARY:Eat Static
DESCRIPTION:Eat Static\nPlus Guests: DJ Minali\, Liquid Ross & Neutron\nAdvance ticket sales have now closed. Tickets will be available on the door from 7pm tonight. \n  \nIt’s finally landing… The Eat Static album release tour! \nExpect the new stuff to be finely woven in with all the bangers. A serious psychedelic feast of beats and bleeps. \n  \nEat Static is an electronic music project formed in 1990 by Merv Pepler and Joie Hinton. Merv Pepler and Joie Hinton met as drummer and keyboard player (respectively) for the Ozric Tentacles\, a long-standing psychedelic “space-rock” band from Somerset. Although the Ozrics incorporated elements of electronic music\, Pepler and Hinton were drawn towards the rave-oriented dance music. Joie Hinton later left the group in February 2008 after 18 years to spend more time with his family. However\, Eat Static is still going strong after 35 years\, and still continuing to wreak havoc wherever they play… \n  \nSaturday 1st November \n7pm – 1am \n(Eat Static will be on from 10.30pm – midnight) \n  \nTickets \n£20 advance (+ booking fee) \nAdvance tickets available here: https://eventhorizontickets.co.uk/event/eat-static-live-glastonbury/ \n18’s and over only \n 
URL:https://www.redbrickbuilding.co.uk/event/eat-static-2025/
LOCATION:The Red Brick Building\, Morland Road\, Glastonbury\, Somerset\, BA6 9FT\, United Kingdom
CATEGORIES:All,Entertainment,Gig,Live,Music
ATTACH;FMTTYPE=image/jpeg:https://www.redbrickbuilding.co.uk/wp-content/uploads/2025/10/Eat-Static-2025-Featured-Image.jpg
ORGANIZER;CN="The Red Brick Building":MAILTO:info@redbrickbuilding.co.uk
END:VEVENT
END:VCALENDAR