BEGIN:VCALENDAR
VERSION:2.0
PRODID:-//The Red Brick Building - ECPv6.14.0//NONSGML v1.0//EN
CALSCALE:GREGORIAN
METHOD:PUBLISH
X-WR-CALNAME:The Red Brick Building
X-ORIGINAL-URL:https://www.redbrickbuilding.co.uk
X-WR-CALDESC:Events for The Red Brick Building
REFRESH-INTERVAL;VALUE=DURATION:PT1H
X-Robots-Tag:noindex
X-PUBLISHED-TTL:PT1H
BEGIN:VTIMEZONE
TZID:Europe/London
BEGIN:DAYLIGHT
TZOFFSETFROM:+0000
TZOFFSETTO:+0100
TZNAME:BST
DTSTART:20250330T010000
END:DAYLIGHT
BEGIN:STANDARD
TZOFFSETFROM:+0100
TZOFFSETTO:+0000
TZNAME:GMT
DTSTART:20251026T010000
END:STANDARD
END:VTIMEZONE
BEGIN:VEVENT
DTSTART;TZID=Europe/London:20251024T170000
DTEND;TZID=Europe/London:20251024T210000
DTSTAMP:20260424T132050
CREATED:20251021T104937Z
LAST-MODIFIED:20251021T104937Z
UID:88188-1761325200-1761339600@www.redbrickbuilding.co.uk
SUMMARY:Spooky Species Evening
DESCRIPTION:Spooky Species Evening\nWith Somerset Wildlife Trust \n  \nLearn about and celebrate autumnal wildlife! \n  \nFriday 24th October \n5pm – 9pm \nFREE EVENT \n  \nAbout the Event: \nDrop into this (not very) spooky evening\, hosted by Somerset Wildlife Trust\, and enjoy: \n🦇 Guided wildlife walks from Wilder Skies \n🎃 Pumpkin decorating \n🎨 Face painting \n🍂 Autumnal wildlife-themed crafts \n🪲 And take a look at the spooky specimens on show! \n☕ Hot drinks provided \n  \nAll ages welcome\, family friendly event. \n  \nWalk Timings:  \nWildlife at Dusk walk\, 5.15pm – 6.15pm (sunset 6pm) \nBook here: https://www.somersetwildlife.org/events/2025-10-24-spooky-guided-walk-wildlife-dusk \n  \nThings that Go Bump in the Night walk\, 6.30pm – 7.30pm \nBook here: https://www.somersetwildlife.org/events/2025-10-24-spooky-guided-walk-things-go-bump-night \n  \nThings that Go Bump in the Night walk\, 7.45pm – 8.45pm \nBook here: https://www.somersetwildlife.org/events/2025-10-24-spooky-guided-walk-things-go-bump-night-2 \n  \nFor any questions please email sian.bentley@somersetwildlife.org \n 
URL:https://www.redbrickbuilding.co.uk/event/spooky-species-evening-2025/
LOCATION:The Red Brick Building\, Morland Road\, Glastonbury\, Somerset\, BA6 9FT\, United Kingdom
CATEGORIES:All,Community,Craft,Entertainment,Live,School Holiday Activity,Youth
ATTACH;FMTTYPE=image/jpeg:https://www.redbrickbuilding.co.uk/wp-content/uploads/2025/10/Spooky-Species-Evening-2025-Featured-Image.jpg
END:VEVENT
END:VCALENDAR