BEGIN:VCALENDAR
VERSION:2.0
PRODID:-//The Red Brick Building - ECPv6.14.0//NONSGML v1.0//EN
CALSCALE:GREGORIAN
METHOD:PUBLISH
X-WR-CALNAME:The Red Brick Building
X-ORIGINAL-URL:https://www.redbrickbuilding.co.uk
X-WR-CALDESC:Events for The Red Brick Building
REFRESH-INTERVAL;VALUE=DURATION:PT1H
X-Robots-Tag:noindex
X-PUBLISHED-TTL:PT1H
BEGIN:VTIMEZONE
TZID:Europe/London
BEGIN:DAYLIGHT
TZOFFSETFROM:+0000
TZOFFSETTO:+0100
TZNAME:BST
DTSTART:20250330T010000
END:DAYLIGHT
BEGIN:STANDARD
TZOFFSETFROM:+0100
TZOFFSETTO:+0000
TZNAME:GMT
DTSTART:20251026T010000
END:STANDARD
END:VTIMEZONE
BEGIN:VEVENT
DTSTART;TZID=Europe/London:20251012T130000
DTEND;TZID=Europe/London:20251012T150000
DTSTAMP:20260424T164206
CREATED:20251002T140932Z
LAST-MODIFIED:20251002T140932Z
UID:88131-1760274000-1760281200@www.redbrickbuilding.co.uk
SUMMARY:Lunchtime Jazz with the Wells Jazz Collective - October
DESCRIPTION:Lunchtime Jazz\nWith the Wells Jazz Collective\n  \nThe perfect blend of good food and cool jazz \n  \nThis combination of smooth jazz and delicious food makes for the perfect chilled out Sunday. Food is prepared to order by the restaurant\, while live jazz is served up by the Wells Jazz Collective. \nDiners are recommended to book with the restaurant in advance. Please contact 01458 440558 or cafe@redbrickbuilding.co.uk \n  \nSunday 12th October \n1pm – 3pm \n  \nFree entry \nDonations welcome \n 
URL:https://www.redbrickbuilding.co.uk/event/lunchtime-jazz-oct-2025/
LOCATION:The Red Brick Building\, Morland Road\, Glastonbury\, Somerset\, BA6 9FT\, United Kingdom
CATEGORIES:All,Entertainment,Gig,Live,Music
ATTACH;FMTTYPE=image/jpeg:https://s3.eu-west-2.amazonaws.com/static.redbrickbuilding.co.uk/wp-content/uploads/2022/04/01111256/Wells-Jazz-Collective-Featured-Image-3.jpg
ORGANIZER;CN="The Red Brick Building":MAILTO:info@redbrickbuilding.co.uk
END:VEVENT
BEGIN:VEVENT
DTSTART;TZID=Europe/London:20251012T160000
DTEND;TZID=Europe/London:20251012T170000
DTSTAMP:20260424T164206
CREATED:20251002T141445Z
LAST-MODIFIED:20251002T141507Z
UID:88133-1760284800-1760288400@www.redbrickbuilding.co.uk
SUMMARY:Sufi Soundstreams - October
DESCRIPTION:Sufi Soundstreams\nSufi meditation\, chanting and music gatherings\n  \nAt the Peace Flame\, in the Event Space \n  \nThe sessions will be lead by Mikail Rose who\, as a follower of the Naqshbandi Sufi Order\, has been leading Zikrs for over thirty years. \n  \nExperience the healing powers of the ‘Divine Names’\, through the harmonising practice of ‘Remembrance’. \nPolish the ‘Mirror of the Heart’. Open the Sacred Connection to the ‘Golden Chain of Transmission’. \n  \nPlease wear loose-fitting\, comfortable clothing\, bring a bottle of water\, and a yearning heart… \n  \nSunday 12th October \n4pm – 5pm \n  \nDonations gratefully received \n  \nFor more info \nPlease call: 07403 444 152
URL:https://www.redbrickbuilding.co.uk/event/sufi-soundstreams-oct-2025/
LOCATION:The Red Brick Building\, Morland Road\, Glastonbury\, Somerset\, BA6 9FT\, United Kingdom
CATEGORIES:All,Community,Live,Music
ATTACH;FMTTYPE=image/jpeg:https://s3.eu-west-2.amazonaws.com/static.redbrickbuilding.co.uk/wp-content/uploads/2017/01/30155742/299A6305.jpg
ORGANIZER;CN="The Red Brick Building":MAILTO:info@redbrickbuilding.co.uk
END:VEVENT
END:VCALENDAR