BEGIN:VCALENDAR
VERSION:2.0
PRODID:-//The Red Brick Building - ECPv6.14.0//NONSGML v1.0//EN
CALSCALE:GREGORIAN
METHOD:PUBLISH
X-WR-CALNAME:The Red Brick Building
X-ORIGINAL-URL:https://www.redbrickbuilding.co.uk
X-WR-CALDESC:Events for The Red Brick Building
REFRESH-INTERVAL;VALUE=DURATION:PT1H
X-Robots-Tag:noindex
X-PUBLISHED-TTL:PT1H
BEGIN:VTIMEZONE
TZID:Europe/London
BEGIN:DAYLIGHT
TZOFFSETFROM:+0000
TZOFFSETTO:+0100
TZNAME:BST
DTSTART:20250330T010000
END:DAYLIGHT
BEGIN:STANDARD
TZOFFSETFROM:+0100
TZOFFSETTO:+0000
TZNAME:GMT
DTSTART:20251026T010000
END:STANDARD
END:VTIMEZONE
BEGIN:VEVENT
DTSTART;TZID=Europe/London:20250824T100000
DTEND;TZID=Europe/London:20250824T140000
DTSTAMP:20260424T141414
CREATED:20250801T130658Z
LAST-MODIFIED:20250801T130856Z
UID:88076-1756029600-1756044000@www.redbrickbuilding.co.uk
SUMMARY:Geekfest Comic-Con
DESCRIPTION:Geekfest Comic-Con\nHosted by The Geeky Gamer \n  \nUnleash Your Inner Hero! Geekfest Comic-Con is here! \n  \nCalling all Superheroes\, Sci-Fi Fanatics\, Anime Aficionados\, and Gaming Gurus! \nPrepare for an epic weekend of all things geek at the Geekfest Comic-Con! Immerse yourself in a universe of pop culture\, cosplay\, comics\, and more. \nExplore a vibrant marketplace\, meet fellow fans\, discover incredible artists and creators\, and celebrate your passions with a community that shares your enthusiasm. Don’t miss out on Glastonbury’s ultimate celebration of geek culture! \n  \nSaturday 23rd & Sunday 24th August \n10am – 6pm (Saturday) \n10am – 2pm (Sunday) \n  \nFREE ENTRY \n  \nFor more info\, contact mark@thegeekygamer.co.uk \n 
URL:https://www.redbrickbuilding.co.uk/event/geekfest-aug-2025-sun/
LOCATION:The Red Brick Building\, Morland Road\, Glastonbury\, Somerset\, BA6 9FT\, United Kingdom
CATEGORIES:All,Community,Entertainment,Exhibition,Live
ATTACH;FMTTYPE=image/jpeg:https://www.redbrickbuilding.co.uk/wp-content/uploads/2025/08/Geekfest-Comic-Con-Aug-2025-Featured-Image.jpg
END:VEVENT
END:VCALENDAR