BEGIN:VCALENDAR
VERSION:2.0
PRODID:-//The Red Brick Building - ECPv6.14.0//NONSGML v1.0//EN
CALSCALE:GREGORIAN
METHOD:PUBLISH
X-WR-CALNAME:The Red Brick Building
X-ORIGINAL-URL:https://www.redbrickbuilding.co.uk
X-WR-CALDESC:Events for The Red Brick Building
REFRESH-INTERVAL;VALUE=DURATION:PT1H
X-Robots-Tag:noindex
X-PUBLISHED-TTL:PT1H
BEGIN:VTIMEZONE
TZID:Europe/London
BEGIN:DAYLIGHT
TZOFFSETFROM:+0000
TZOFFSETTO:+0100
TZNAME:BST
DTSTART:20250330T010000
END:DAYLIGHT
BEGIN:STANDARD
TZOFFSETFROM:+0100
TZOFFSETTO:+0000
TZNAME:GMT
DTSTART:20251026T010000
END:STANDARD
END:VTIMEZONE
BEGIN:VEVENT
DTSTART;TZID=Europe/London:20250710T190000
DTEND;TZID=Europe/London:20250710T214500
DTSTAMP:20260424T201248
CREATED:20250613T145418Z
LAST-MODIFIED:20250613T152832Z
UID:88017-1752174000-1752183900@www.redbrickbuilding.co.uk
SUMMARY:Three Acres And A Cow
DESCRIPTION:Three Acres And A Cow\n  \nA history of land rights and protest in folk song and story \n  \nThree Acres And A Cow connects the Norman Conquest and Peasants’ Revolt with current issues like the housing crisis\, reparations\, climate breakdown and food sovereignty via the Enclosures\, English Civil War and Industrial Revolution\, drawing a compelling narrative through the radical people’s history of England in folk song\, stories and poems. \nPart TED talk\, part history lecture\, part folk club sing-a-long\, part storytelling session… Come and share in these tales as they have been shared for generations. \nFor more information\, visit: www.threeacresandacow.co.uk \n  \n“I think about this show all the time. It has totally changed the way I think about colonialism\, direct action and English nationalism. Thinking about it today\, four years after seeing the show\, it’s clear it was a life changing event for me.” – Monique \n“The history lesson I’ve always wanted. Thank you for a very entertaining/life changing evening. I’ll be looking at the land and listening to folk songs in a very different way” – Emily \n“Everyone should see this show” – George Monbiot \n  \nThursday 10th July \nDoors: 6.30pm \n7pm – 9.45pm (with one interval) \n  \nTickets \n£15 – £25 \nAdvance tickets available to purchase here: www.tickettailor.com/events/modifythevan/1739534 \n  \nMoney raised from ticket sales will help support the work of our vibrant community centre; a space that welcomes all and supports community\, arts\, enterprise\, well-being and culture. \n  \n  \nAge Limit: \nThe show is not designed for kids although there have been both primary and secondary aged children who enjoyed the show a lot… *but* please do not bring them along against their will! \nThe show is light hearted in many places and is broken up with sing-a-longs\, but we also discuss the Irish potato famine and other British colonial genocides plus the trading of enslaved Africans – so some strong words are used. \n 
URL:https://www.redbrickbuilding.co.uk/event/three-acres-and-a-cow-2025/
LOCATION:The Red Brick Building\, Morland Road\, Glastonbury\, Somerset\, BA6 9FT\, United Kingdom
CATEGORIES:All,Community,Entertainment,Fundraiser,Gig,Lecture,Live,Music,Theatre
ATTACH;FMTTYPE=image/jpeg:https://s3.eu-west-2.amazonaws.com/static.redbrickbuilding.co.uk/wp-content/uploads/2025/06/13155338/Three-Acres-And-A-Cow-2025-Featured-Image.jpg
ORGANIZER;CN="The Red Brick Building":MAILTO:info@redbrickbuilding.co.uk
END:VEVENT
END:VCALENDAR