BEGIN:VCALENDAR
VERSION:2.0
PRODID:-//The Red Brick Building - ECPv6.14.0//NONSGML v1.0//EN
CALSCALE:GREGORIAN
METHOD:PUBLISH
X-ORIGINAL-URL:https://www.redbrickbuilding.co.uk
X-WR-CALDESC:Events for The Red Brick Building
REFRESH-INTERVAL;VALUE=DURATION:PT1H
X-Robots-Tag:noindex
X-PUBLISHED-TTL:PT1H
BEGIN:VTIMEZONE
TZID:Europe/London
BEGIN:DAYLIGHT
TZOFFSETFROM:+0000
TZOFFSETTO:+0100
TZNAME:BST
DTSTART:20240331T010000
END:DAYLIGHT
BEGIN:STANDARD
TZOFFSETFROM:+0100
TZOFFSETTO:+0000
TZNAME:GMT
DTSTART:20241027T010000
END:STANDARD
END:VTIMEZONE
BEGIN:VEVENT
DTSTART;TZID=Europe/London:20240508T200000
DTEND;TZID=Europe/London:20240508T210000
DTSTAMP:20260424T210922
CREATED:20240315T155833Z
LAST-MODIFIED:20240404T104518Z
UID:84421-1715198400-1715202000@www.redbrickbuilding.co.uk
SUMMARY:What on Earth is Feldenkrais?
DESCRIPTION:What on Earth is Feldenkrais?\n  \nAn International Feldenkrais Week event \n  \nAn introduction and demonstration of Feldenkrais somatic education showing how it can relieve musculoskeletal pain through improving posture and movement. \n  \nWednesday 8th May \n8pm – 9pm \nFree entry – No need to book; just turn up \n  \nFor more information\, please contact Dearbhaile Bradley on dearbhailebradley@protonmail.com \n 
URL:https://www.redbrickbuilding.co.uk/event/feldenkrais-lecture/
LOCATION:The Red Brick Building\, Morland Road\, Glastonbury\, Somerset\, BA6 9FT\, United Kingdom
CATEGORIES:All,Lecture,Wellbeing
ATTACH;FMTTYPE=image/jpeg:https://s3.eu-west-2.amazonaws.com/static.redbrickbuilding.co.uk/wp-content/uploads/2024/03/15155752/Feldenkrais-Lecture-Featured-Image.jpg
END:VEVENT
END:VCALENDAR