BEGIN:VCALENDAR
VERSION:2.0
PRODID:-//The Red Brick Building - ECPv6.14.0//NONSGML v1.0//EN
CALSCALE:GREGORIAN
METHOD:PUBLISH
X-ORIGINAL-URL:https://www.redbrickbuilding.co.uk
X-WR-CALDESC:Events for The Red Brick Building
REFRESH-INTERVAL;VALUE=DURATION:PT1H
X-Robots-Tag:noindex
X-PUBLISHED-TTL:PT1H
BEGIN:VTIMEZONE
TZID:Europe/London
BEGIN:DAYLIGHT
TZOFFSETFROM:+0000
TZOFFSETTO:+0100
TZNAME:BST
DTSTART:20240331T010000
END:DAYLIGHT
BEGIN:STANDARD
TZOFFSETFROM:+0100
TZOFFSETTO:+0000
TZNAME:GMT
DTSTART:20241027T010000
END:STANDARD
END:VTIMEZONE
BEGIN:VEVENT
DTSTART;TZID=Europe/London:20240430T100000
DTEND;TZID=Europe/London:20240430T120000
DTSTAMP:20260424T192212
CREATED:20240220T160434Z
LAST-MODIFIED:20240315T160149Z
UID:84163-1714471200-1714478400@www.redbrickbuilding.co.uk
SUMMARY:Gardening Workshop: Wildlife Garden
DESCRIPTION:Gardening Workshop\nWildlife Garden\n  \nJoin us for gardening workshops in our Community Garden\, to help you and the garden prepare for the growing season ahead. \nIn this ‘Wildlife Garden’ workshop\, learn the best plants for pollinators\, how to make a bug hotel\, and all about pond investigation. \nMaximum 12 places\, so please book a space by contacting julia@feedavalon.org.uk \n  \nTuesday 30th April \n10am – 12pm \nFree to attend \n  \nWorkshop run by: \nJulia Bedford – Community Herbalist & Gardener \nAdam Crofts – Red Brick Building Community Gardener \nDavid Cypher – Red Brick Building Community Garden Outreach Manager & Medical Herbalist \n  \nFor further information and to book\, please contact julia@feedavalon.org.uk \n  \nWith thanks to Somerset Community Foundation for supporting these workshops.
URL:https://www.redbrickbuilding.co.uk/event/gardening-workshop-apr-2024-3/
LOCATION:Community Garden
CATEGORIES:All,Garden,Gardening,Workshop
ATTACH;FMTTYPE=image/png:https://s3.eu-west-2.amazonaws.com/static.redbrickbuilding.co.uk/wp-content/uploads/2017/01/01212143/Community-Garden-Volunteering-Featured-Image.png
ORGANIZER;CN="The Red Brick Building":MAILTO:info@redbrickbuilding.co.uk
END:VEVENT
END:VCALENDAR