BEGIN:VCALENDAR
VERSION:2.0
PRODID:-//The Red Brick Building - ECPv6.14.0//NONSGML v1.0//EN
CALSCALE:GREGORIAN
METHOD:PUBLISH
X-WR-CALNAME:The Red Brick Building
X-ORIGINAL-URL:https://www.redbrickbuilding.co.uk
X-WR-CALDESC:Events for The Red Brick Building
REFRESH-INTERVAL;VALUE=DURATION:PT1H
X-Robots-Tag:noindex
X-PUBLISHED-TTL:PT1H
BEGIN:VTIMEZONE
TZID:Europe/London
BEGIN:DAYLIGHT
TZOFFSETFROM:+0000
TZOFFSETTO:+0100
TZNAME:BST
DTSTART:20240331T010000
END:DAYLIGHT
BEGIN:STANDARD
TZOFFSETFROM:+0100
TZOFFSETTO:+0000
TZNAME:GMT
DTSTART:20241027T010000
END:STANDARD
END:VTIMEZONE
BEGIN:VEVENT
DTSTART;TZID=Europe/London:20240405T193000
DTEND;TZID=Europe/London:20240405T233000
DTSTAMP:20260424T201324
CREATED:20240223T165321Z
LAST-MODIFIED:20240404T095224Z
UID:84215-1712345400-1712359800@www.redbrickbuilding.co.uk
SUMMARY:Friday Night Jazz: The Jazz Defenders
DESCRIPTION:The Red Hot Jazz Club presents\nThe Jazz Defenders\n  \n*N.B. Online ticket sales will stop on Thursday evening. A limited number of entry only tickets will be available on the door from 7.30pm on Friday.* \n  \nLed by one of the UK’s most formidable jazz pianists\, George Cooper\, The Jazz Defenders are a group born from a deep love of Blue Note jazz\, drawing on a wealth of inspiration to craft their own raw and vibrant compositions. Having played several shows at Ronnie Scott’s Jazz Club as well as many other prestigious venues in the UK\, they continue to electrify audiences with their energy and virtuosity. \nAs The Jazz Defenders carry on distinctly ‘defending’ the legacy of some of the classic hard bop greats such as Horace Silver\, Lee Morgan and Art Blakey\, they begin to evolve their modern soul jazz slant to combine solid grooves and catchy horn lines with a collaborative and comprehensive sound\, fusing soul\, jazz\, hip hop\, soundtrack and groove into a masterful union that leaves audiences mesmerised. The result is an enthrallingly unique sound that is as danceable as it is listenable. \nThe group’s brainchild\, pianist and composer George Cooper\, has lent his ample skill to a range of artists as varied as Hans Zimmer\, Nigel Kennedy\, U2\, Omar\, Slum Village\, MF Doom\, The Brand New Heavies\, Lisa Stansfield\, Wet Wet Wet\, The Haggis Horns\, Abstract Orchestra and Lack of Afro. \n  \n“Absolutely storming!” – Jamie Cullum \n“Wonderfully put together” – Craig Charles \n“Gutsy\, fantastic music” – Dennis Rollins MBE \n“The most exciting British jazz group out there right now” – Music Republic Magazine \n  \nFeaturing: \nGeorge Cooper – Piano/Keyboards \nWill Harris – Bass \nIan Matthews – Drums \nNick Malcolm – Trumpet \nJake McMurchie – Tenor Sax \n  \nFriday 5th April \nDoors: 7.30pm \nStart: 8pm \n  \nTickets \nEntry: £15 \nVegetable Curry with Rice*: £9.50 (advance booking only) \nChicken Curry with Rice*: £9.50 (advance booking only) \n*For special dietary requirements\, please contact The Old Tannery restaurant on theoldtanneryglastonbury@outlook.com or 01458 440558. \nPlease note food options are subject to change. \n  \nFor more information about this event\, please contact theredhotjazzclub@gmail.com \n  \n18’s and over only \nPlease note\, tickets are non-refundable unless the event is cancelled
URL:https://www.redbrickbuilding.co.uk/event/friday-night-jazz-apr-2024/
LOCATION:The Red Brick Building\, Morland Road\, Glastonbury\, Somerset\, BA6 9FT\, United Kingdom
CATEGORIES:All,Entertainment,Gig,Live,Music
ATTACH;FMTTYPE=image/jpeg:https://s3.eu-west-2.amazonaws.com/static.redbrickbuilding.co.uk/wp-content/uploads/2024/02/23165241/Friday-Night-Jazz-The-Jazz-Defenders-2024-Featured-Image.jpg
ORGANIZER;CN="The Red Hot Jazz Club":MAILTO:theredhotjazzclub@gmail.com
END:VEVENT
END:VCALENDAR